BEGIN:VCALENDAR
VERSION:2.0
PRODID:-//Entwicklungspädagogik nach Rita Messmer - ECPv6.15.12.2//NONSGML v1.0//EN
CALSCALE:GREGORIAN
METHOD:PUBLISH
X-WR-CALNAME:Entwicklungspädagogik nach Rita Messmer
X-ORIGINAL-URL:https://epm-paedagogik.ch
X-WR-CALDESC:Veranstaltungen für Entwicklungspädagogik nach Rita Messmer
REFRESH-INTERVAL;VALUE=DURATION:PT1H
X-Robots-Tag:noindex
X-PUBLISHED-TTL:PT1H
BEGIN:VTIMEZONE
TZID:Europe/Paris
BEGIN:DAYLIGHT
TZOFFSETFROM:+0100
TZOFFSETTO:+0200
TZNAME:CEST
DTSTART:20240331T010000
END:DAYLIGHT
BEGIN:STANDARD
TZOFFSETFROM:+0200
TZOFFSETTO:+0100
TZNAME:CET
DTSTART:20241027T010000
END:STANDARD
BEGIN:DAYLIGHT
TZOFFSETFROM:+0100
TZOFFSETTO:+0200
TZNAME:CEST
DTSTART:20250330T010000
END:DAYLIGHT
BEGIN:STANDARD
TZOFFSETFROM:+0200
TZOFFSETTO:+0100
TZNAME:CET
DTSTART:20251026T010000
END:STANDARD
BEGIN:DAYLIGHT
TZOFFSETFROM:+0100
TZOFFSETTO:+0200
TZNAME:CEST
DTSTART:20260329T010000
END:DAYLIGHT
BEGIN:STANDARD
TZOFFSETFROM:+0200
TZOFFSETTO:+0100
TZNAME:CET
DTSTART:20261025T010000
END:STANDARD
END:VTIMEZONE
BEGIN:VEVENT
DTSTART;VALUE=DATE:20251024
DTEND;VALUE=DATE:20251026
DTSTAMP:20260419T154011
CREATED:20250826T073627Z
LAST-MODIFIED:20250826T142854Z
UID:7670-1761264000-1761436799@epm-paedagogik.ch
SUMMARY:Jahrestagung der KgKS 2025
DESCRIPTION:Die Jahrestagung der KgKS 2025 findet am 24. und 25.10.25 in Braunschweig statt
URL:https://epm-paedagogik.ch/event/jahrestagung-der-kgks-2025/
CATEGORIES:Jahrestagung
ATTACH;FMTTYPE=image/png:https://epm-paedagogik.ch/wp-content/uploads/2025/08/image.png
END:VEVENT
END:VCALENDAR