BEGIN:VCALENDAR
VERSION:2.0
PRODID:-//Entwicklungspädagogik nach Rita Messmer - ECPv6.15.12.2//NONSGML v1.0//EN
CALSCALE:GREGORIAN
METHOD:PUBLISH
X-WR-CALNAME:Entwicklungspädagogik nach Rita Messmer
X-ORIGINAL-URL:https://epm-paedagogik.ch
X-WR-CALDESC:Veranstaltungen für Entwicklungspädagogik nach Rita Messmer
REFRESH-INTERVAL;VALUE=DURATION:PT1H
X-Robots-Tag:noindex
X-PUBLISHED-TTL:PT1H
BEGIN:VTIMEZONE
TZID:Europe/Paris
BEGIN:DAYLIGHT
TZOFFSETFROM:+0100
TZOFFSETTO:+0200
TZNAME:CEST
DTSTART:20230326T010000
END:DAYLIGHT
BEGIN:STANDARD
TZOFFSETFROM:+0200
TZOFFSETTO:+0100
TZNAME:CET
DTSTART:20231029T010000
END:STANDARD
BEGIN:DAYLIGHT
TZOFFSETFROM:+0100
TZOFFSETTO:+0200
TZNAME:CEST
DTSTART:20240331T010000
END:DAYLIGHT
BEGIN:STANDARD
TZOFFSETFROM:+0200
TZOFFSETTO:+0100
TZNAME:CET
DTSTART:20241027T010000
END:STANDARD
BEGIN:DAYLIGHT
TZOFFSETFROM:+0100
TZOFFSETTO:+0200
TZNAME:CEST
DTSTART:20250330T010000
END:DAYLIGHT
BEGIN:STANDARD
TZOFFSETFROM:+0200
TZOFFSETTO:+0100
TZNAME:CET
DTSTART:20251026T010000
END:STANDARD
END:VTIMEZONE
BEGIN:VEVENT
DTSTART;TZID=Europe/Paris:20241010T090000
DTEND;TZID=Europe/Paris:20241010T173000
DTSTAMP:20260420T112609
CREATED:20230719T154625Z
LAST-MODIFIED:20240719T105202Z
UID:4247-1728550800-1728581400@epm-paedagogik.ch
SUMMARY:Zertifizierungskurs: hello nappy
DESCRIPTION:Wir haben für diese Ausbildung ein ganz neues Konzept entworfen und auf ein hohes Niveau gestellt. Du findest alle Informationen unter:\nwww.ausbildung.epm-paedagogik.ch\nWir freuen uns dich damit abholen zu dürfen und garantieren dir einen fundierten Kurs\, wo du viel über Neurobiologie erfährst und wie wichtig dieses Wissen für eine gesunde Entwicklung unserer Kinder ist. \n \nVoraussetzungen für den Zertifikationskurs und das Zertifikat:  \n\nDie beiden Bücher „Ihr Baby kann’s!“ „Der kleine Homo sapiens kann’s!“\,\nDas Basismodul und\nDie Motivation\, im Eigenstudium das Gelernte zu vertiefen\n\nFrühe Prägung der Persönlichkeit\nEs ist ein ureigenes Bedürfnis\, nicht in seinen Ausscheidungen zu liegen.  \nKonzept und Zielsetzung: \nGesundheit der Kinder: Entwicklungsbiologischer Weg zur Reinlichkeit unserer Kinder \nDie Ausbildung umschließt  Kenntnisse der Biologie\, Anatomie\, Neurologie\, Physiologie und Pathologie im Zusammenhang mit dem Ausscheidungsverhalten von Säuglingen und Kinder. \nZertifizierungskurs hello nappy-Berater*in \nDieser Kurs bringt Ihnen hello nappy (ehemals windelfrei) näher und befähigt Sie\, interessierten Personen – insbesondere Eltern – das erfolgreiche Konzept von hello nappy aufzuzeigen und ihnen als Berater*in zur Seite zu stehen. \nKursinhalt:\nDas Ausscheidungsbedürfnis von Babys verstehen und weitergeben. \nRita Messmer ist die Urheberin der frühen Reinlichkeit und hat daraus hello nappy kreiert: Ein Konzept\, durch welches das Abhalten von Babys ab Geburt im Alltag einfach umzusetzen ist. hello nappy ist nicht windelfrei: Es setzt Windeln – im Idealfall Stoffwindeln – als Back-up ein\, was den Eltern mehr Freiheit und Gelassenheit gibt. Gerade deswegen wird hello nappy von frisch gewordenen Eltern in solcher Beliebtheit und so erfolgreich umgesetzt. \nDurch diesen Kurs können auch Sie weiteren Eltern in Ihrer Umgebung beim Umgang mit hello nappy unterstützend beraten mit folgenden Zielsetzungen: \n\nKinder werden früh trocken à Kindergarten- und Schulzeit ohne Windeln\nKinder werden nicht zu Bettnässern\nKinder werden nicht inkontinent (weder bei Blase noch beim Darm)\nkeine Blasenentzündungen aufgrund von Stuhl in den Windeln\nkeine Verstopfungen und Dreimonatskoliken\nkeine Töpfchenverweigerung\nphysischen Komplikationen\, wie z.B. zu kleine Blase\, unterentwickelte Becken- und Blasenmuskulatur\nkeine Irritationen der Ausscheidungsorgane und des enterischen Nervensystems\nkeine Windeldermatitis\n\nBiologische\, anatomische\, neurobiologische\, physiologische und pädagogische Hintergründe: \n\nEntwicklungspädagogik hello nappy: Die frühe Reinlichkeit (ehemals windelfrei) von Säuglingen verstehen und umsetzen\nWie gehen traditionelle Völker mit dem Ausscheidungsbedürfnis der Babys um?\nWas ist unter den sensiblen Phasen zu verstehen und welche wichtigen Entwicklungen laufen hier bereits als frühkindliche Prägung im Gehirn ab?\nAufbau und Funktion unseres Harn- und Darmsystems\nWie wird die Blasenentleerung reguliert und welchen Zusammenhang läuft hier zwischen Blase und Gehirn ab?\nImpulskontrollen sind wichtige Körperfunktionen\nDer gastrokolische Reflex und der Zusammenhang zum Ausscheidungsbedürfnis\nSchwere physische und psychische Folgen nach jahrelangem Windeltragen sowie deren Auswirkungen auf das Verhalten des Kindes\n\nUmsetzung von hello nappy: \n\nDas Konzept den Interessent*innen aufzeigen\nDrei Wege führen zum Ziel von hello nappy\nWas\, wenn die sensible Phase des Ausscheidungsbedürfnisses verpasst wurde?\nWieso werden Kinder immer älter\, bis sie heutzutage trocken sind?\nDie große Problematik der industriellen Windeln (Aspekt Umwelt\, Ökonomie\, Wirtschaft)\nErsatz von Wegwerfwindeln durch Stoffwindeln\nFremdbetreuung (Kita\, Tagesstätte etc.) und hello nappy – geht das?\nPannen\, Krankheiten\, Entwicklungsschübe – wie weiter?\nWie umgehen mit Bettnässern\, Inkontinenz\, Verstopfung\, nur in Windeln stuhlen wollen à Alltagsbeispiele und entsprechenden Hilfestellungen\nBedeutet das Berücksichtigen des natürlichen Ausscheidungsbedürfnisses durch Abhalten mehr Aufwand und Stress für die Eltern – wie ist das möglich?\n\nKursabschluss\nDurchführung einer schriftlichen Prüfung bis zu einem Monat nach Kursende\, in welchem Fragen aus dem Kurs beantwortet sowie Fallbeispiele aus dem Alltag gelöst werden. Der erfolgreiche Abschluss führt zum Zertifikat: hello nappy Berater*in und berechtigt zur selbständigen Durchführung von Kursen (Einzelpersonen\, Kleingruppen) und Beratungen. \nVoraussetzung: Bücher „Ihr Baby kann’s!“ „Der kleine Homo sapiens kann’s!“ \nUnd die Motivation\, im Eigenstudium das Gelernte zu vertiefen. \n[event-add-cart-section event=“3717″]
URL:https://epm-paedagogik.ch/event/zertifizierungskurs-hello-nappy/
CATEGORIES:Zertifikationskurs windelfrei hello nappy online
ATTACH;FMTTYPE=image/jpeg:https://epm-paedagogik.ch/wp-content/uploads/2023/01/Zertifizierung.jpg
END:VEVENT
BEGIN:VEVENT
DTSTART;TZID=Europe/Paris:20241024T093000
DTEND;TZID=Europe/Paris:20241024T110000
DTSTAMP:20260420T112609
CREATED:20240211T154842Z
LAST-MODIFIED:20240507T134056Z
UID:5321-1729762200-1729767600@epm-paedagogik.ch
SUMMARY:Kant. Hebammenfortbildung -Vortrag
DESCRIPTION:
URL:https://epm-paedagogik.ch/event/kant-hebammenfortbildung-vortrag/
LOCATION:MIgros Klubschule St. Gallen (historischer Saal)\, Bahnhofplatz 2\, 9000 St. Gallen
CATEGORIES:Kant. Hebammenfortbildung,Vortrag
ATTACH;FMTTYPE=image/jpeg:https://epm-paedagogik.ch/wp-content/uploads/2023/12/11.-Abhalten-am-Tag-5-1.jpeg
ORGANIZER;CN="SHV Ostschweizer Hebammen":MAILTO:SHV Sektion Ostschweiz Geschäftsstelle
END:VEVENT
END:VCALENDAR