BEGIN:VCALENDAR
VERSION:2.0
PRODID:-//Entwicklungspädagogik nach Rita Messmer - ECPv6.15.12.2//NONSGML v1.0//EN
CALSCALE:GREGORIAN
METHOD:PUBLISH
X-ORIGINAL-URL:https://epm-paedagogik.ch
X-WR-CALDESC:Veranstaltungen für Entwicklungspädagogik nach Rita Messmer
REFRESH-INTERVAL;VALUE=DURATION:PT1H
X-Robots-Tag:noindex
X-PUBLISHED-TTL:PT1H
BEGIN:VTIMEZONE
TZID:Europe/Paris
BEGIN:DAYLIGHT
TZOFFSETFROM:+0100
TZOFFSETTO:+0200
TZNAME:CEST
DTSTART:20230326T010000
END:DAYLIGHT
BEGIN:STANDARD
TZOFFSETFROM:+0200
TZOFFSETTO:+0100
TZNAME:CET
DTSTART:20231029T010000
END:STANDARD
BEGIN:DAYLIGHT
TZOFFSETFROM:+0100
TZOFFSETTO:+0200
TZNAME:CEST
DTSTART:20240331T010000
END:DAYLIGHT
BEGIN:STANDARD
TZOFFSETFROM:+0200
TZOFFSETTO:+0100
TZNAME:CET
DTSTART:20241027T010000
END:STANDARD
BEGIN:DAYLIGHT
TZOFFSETFROM:+0100
TZOFFSETTO:+0200
TZNAME:CEST
DTSTART:20250330T010000
END:DAYLIGHT
BEGIN:STANDARD
TZOFFSETFROM:+0200
TZOFFSETTO:+0100
TZNAME:CET
DTSTART:20251026T010000
END:STANDARD
END:VTIMEZONE
BEGIN:VEVENT
DTSTART;TZID=Europe/Paris:20240523T190000
DTEND;TZID=Europe/Paris:20240523T203000
DTSTAMP:20260420T221716
CREATED:20240220T164637Z
LAST-MODIFIED:20240507T134121Z
UID:5396-1716490800-1716496200@epm-paedagogik.ch
SUMMARY:Kinder zur Selbstständigkeit erziehen
DESCRIPTION:Kinder zur Selbstständigkeit erziehen: \nDonnerstg\, 23. Mai 2024 Pfarreizentrum St. Maria in Emmenbrücke. \nBeginn 19 00h – 20 30h anschliessend Apero der Talk im Anschluss schafft Raum für Fragen und Austausch. \n \nKinder zur Sebstständigkeit erziehen.Luzern.pdf
URL:https://epm-paedagogik.ch/event/kinder-zur-selbststaendigkeit-erziehen/
CATEGORIES:Vortrag
ATTACH;FMTTYPE=image/jpeg:https://epm-paedagogik.ch/wp-content/uploads/2022/11/Vortrag.jpg
ORGANIZER;CN="Pfarrei St. Maria Emmenbr%C3%BCcke%2C Pastoralraum Emmen-Rothenburg":MAILTO:pfarrei.santamaria@kath.emmen-rothenburg.ch
END:VEVENT
END:VCALENDAR